BEGIN:VCALENDAR
VERSION:2.0
PRODID:icalendar-ruby
CALSCALE:GREGORIAN
METHOD:PUBLISH
BEGIN:VEVENT
DTSTAMP:20260424T113709Z
UID:1c46a20f-4fd7-4c09-bf99-37843e77ebd0
DTSTART;VALUE=DATE:20180304
DTEND;VALUE=DATE:20180304
DESCRIPTION:Twin City BMX
LOCATION:401 Lea Joyner Memorial Expy  Monroe LA 71201 USA
SUMMARY:Standard Single Single
URL:/site/bmx_races/379395
END:VEVENT
END:VCALENDAR
