BEGIN:VCALENDAR
VERSION:2.0
PRODID:icalendar-ruby
CALSCALE:GREGORIAN
METHOD:PUBLISH
BEGIN:VEVENT
DTSTAMP:20260424T185920Z
UID:5a4a5234-0b2b-4a18-9ef9-8ddfe4b1d415
DTSTART;VALUE=DATE:20181017
DTEND;VALUE=DATE:20181017
DESCRIPTION:Sycamore BMX
LOCATION:1692 Sycamore Dr.  Simi Valley CA 93065 USA
SUMMARY:Standard Single Single
URL:/site/bmx_races/379312
END:VEVENT
END:VCALENDAR
