BEGIN:VCALENDAR
VERSION:2.0
PRODID:icalendar-ruby
CALSCALE:GREGORIAN
METHOD:PUBLISH
BEGIN:VEVENT
DTSTAMP:20260424T230055Z
UID:36ff3206-c87d-4804-9000-336d30d580c7
DTSTART;VALUE=DATE:20180619
DTEND;VALUE=DATE:20180619
DESCRIPTION:Apple Valley BMX Moto Park
LOCATION:24320 Highway 18  Apple Valley CA 92307 USA
SUMMARY:Olympic Single
URL:/site/bmx_races/379184
END:VEVENT
END:VCALENDAR
