BEGIN:VCALENDAR
VERSION:2.0
PRODID:icalendar-ruby
CALSCALE:GREGORIAN
METHOD:PUBLISH
BEGIN:VEVENT
DTSTAMP:20260424T084428Z
UID:de92d6cc-f0d5-41b2-950e-3e8e9a6f9ed4
DTSTART;VALUE=DATE:20130613
DTEND;VALUE=DATE:20130613
DESCRIPTION:Marquette BMX
LOCATION:910 Hawley Street  Marquette MI 49855 USA
SUMMARY:Local Race Single
URL:/site/bmx_races/37870
END:VEVENT
END:VCALENDAR
