BEGIN:VCALENDAR
VERSION:2.0
PRODID:icalendar-ruby
CALSCALE:GREGORIAN
METHOD:PUBLISH
BEGIN:VEVENT
DTSTAMP:20260424T080036Z
UID:5f133863-baa7-4d5f-b289-9ee8afd7ee8b
DTSTART;VALUE=DATE:20181215
DTEND;VALUE=DATE:20181215
DESCRIPTION:ORL BMX
LOCATION:4801 W Colonial Dr  Orlando FL 32808 USA
SUMMARY:Earned Double
URL:/site/bmx_races/377903
END:VEVENT
END:VCALENDAR
