BEGIN:VCALENDAR
VERSION:2.0
PRODID:icalendar-ruby
CALSCALE:GREGORIAN
METHOD:PUBLISH
BEGIN:VEVENT
DTSTAMP:20260425T231015Z
UID:a410cc23-e5e4-429d-8340-eb43461d6772
DTSTART;VALUE=DATE:20180505
DTEND;VALUE=DATE:20180505
DESCRIPTION:Montrose West BMX
LOCATION:411 W Second  Naturita CO 81422 USA
SUMMARY:Standard Single Single
URL:/site/bmx_races/377851
END:VEVENT
END:VCALENDAR
