BEGIN:VCALENDAR
VERSION:2.0
PRODID:icalendar-ruby
CALSCALE:GREGORIAN
METHOD:PUBLISH
BEGIN:VEVENT
DTSTAMP:20260424T115556Z
UID:c53a2ea5-f3ec-4edd-8032-ae28dde8cc16
DTSTART;VALUE=DATE:20180427
DTEND;VALUE=DATE:20180427
DESCRIPTION:Sand Springs BMX
LOCATION:2600 S River City Park Rd  Sand Springs OK 74063 USA
SUMMARY:Standard Single Single
URL:/site/bmx_races/377785
END:VEVENT
END:VCALENDAR
