BEGIN:VCALENDAR
VERSION:2.0
PRODID:icalendar-ruby
CALSCALE:GREGORIAN
METHOD:PUBLISH
BEGIN:VEVENT
DTSTAMP:20260424T115804Z
UID:fbfd18b4-97d9-42e8-8a2b-a208d204516c
DTSTART;VALUE=DATE:20180511
DTEND;VALUE=DATE:20180511
DESCRIPTION:Durango BMX
LOCATION:360 S Camino Del Rio\,  Durango CO 81301 USA
SUMMARY:Standard Single Single
URL:/site/bmx_races/377703
END:VEVENT
END:VCALENDAR
