BEGIN:VCALENDAR
VERSION:2.0
PRODID:icalendar-ruby
CALSCALE:GREGORIAN
METHOD:PUBLISH
BEGIN:VEVENT
DTSTAMP:20260425T024402Z
UID:d78f92a7-2ad8-446d-82e7-ea739495f72b
DTSTART;VALUE=DATE:20180908
DTEND;VALUE=DATE:20180908
DESCRIPTION:Valley BMX
LOCATION:Myron Ln.  Off Wilawana Rd Athens PA 18840 USA
SUMMARY:Standard Single Single
URL:/site/bmx_races/377633
END:VEVENT
END:VCALENDAR
