BEGIN:VCALENDAR
VERSION:2.0
PRODID:icalendar-ruby
CALSCALE:GREGORIAN
METHOD:PUBLISH
BEGIN:VEVENT
DTSTAMP:20260424T115639Z
UID:d7592fcf-279c-403a-ba28-0116a0dffded
DTSTART;VALUE=DATE:20180808
DTEND;VALUE=DATE:20180808
DESCRIPTION:Desert Downs BMX
LOCATION:8801 Railroad  El Paso TX 79924 USA
SUMMARY:Standard Single Single
URL:/site/bmx_races/377575
END:VEVENT
END:VCALENDAR
