BEGIN:VCALENDAR
VERSION:2.0
PRODID:icalendar-ruby
CALSCALE:GREGORIAN
METHOD:PUBLISH
BEGIN:VEVENT
DTSTAMP:20260425T010623Z
UID:ee58a1ce-7fcb-4d01-8e8d-4778bba187f4
DTSTART;VALUE=DATE:20180516
DTEND;VALUE=DATE:20180516
DESCRIPTION:Desert Downs BMX
LOCATION:8801 Railroad  El Paso TX 79924 USA
SUMMARY:Standard Single Single
URL:/site/bmx_races/377552
END:VEVENT
END:VCALENDAR
