BEGIN:VCALENDAR
VERSION:2.0
PRODID:icalendar-ruby
CALSCALE:GREGORIAN
METHOD:PUBLISH
BEGIN:VEVENT
DTSTAMP:20260425T011613Z
UID:4ba8476d-6256-4eff-896a-a51fdeaf96c9
DTSTART;VALUE=DATE:20181006
DTEND;VALUE=DATE:20181006
DESCRIPTION:Eagle Park BMX
LOCATION:11800 N Horseshoe Bend Rd  Eagle ID 83616 USA
SUMMARY:Standard Single Single
URL:/site/bmx_races/377063
END:VEVENT
END:VCALENDAR
