BEGIN:VCALENDAR
VERSION:2.0
PRODID:icalendar-ruby
CALSCALE:GREGORIAN
METHOD:PUBLISH
BEGIN:VEVENT
DTSTAMP:20260424T190037Z
UID:d43ef5aa-ebb3-4fff-9302-1da798752bad
DTSTART;VALUE=DATE:20180707
DTEND;VALUE=DATE:20180707
DESCRIPTION:Supertrak BMX
LOCATION:Carrie Jane Gray Park 323 Del Laverdure Way Prince George BC V2N4Z
 5 CAN
SUMMARY:Earned Double
URL:/site/bmx_races/377025
END:VEVENT
END:VCALENDAR
