BEGIN:VCALENDAR
VERSION:2.0
PRODID:icalendar-ruby
CALSCALE:GREGORIAN
METHOD:PUBLISH
BEGIN:VEVENT
DTSTAMP:20260424T115603Z
UID:87438177-241b-437a-8809-d59eccf26533
DTSTART;VALUE=DATE:20180606
DTEND;VALUE=DATE:20180606
DESCRIPTION:Kelowna BMX
LOCATION:645 Dodd Rd  Kelowna BC V1X5H1 CAN
SUMMARY:Earned Double
URL:/site/bmx_races/376997
END:VEVENT
END:VCALENDAR
