BEGIN:VCALENDAR
VERSION:2.0
PRODID:icalendar-ruby
CALSCALE:GREGORIAN
METHOD:PUBLISH
BEGIN:VEVENT
DTSTAMP:20260424T080030Z
UID:beab6df5-6852-4783-9ea4-af7f113e4618
DTSTART;VALUE=DATE:20180914
DTEND;VALUE=DATE:20180914
DESCRIPTION:Okeeheelee BMX
LOCATION:8145 Forest Hill Blvd  West Palm Beach FL 33413 USA
SUMMARY:Pre Race Double Double
URL:/site/bmx_races/376990
END:VEVENT
END:VCALENDAR
