BEGIN:VCALENDAR
VERSION:2.0
PRODID:icalendar-ruby
CALSCALE:GREGORIAN
METHOD:PUBLISH
BEGIN:VEVENT
DTSTAMP:20260424T104322Z
UID:ee0e664b-c32b-4b91-bf2d-4e4a907decee
DTSTART;VALUE=DATE:20180217
DTEND;VALUE=DATE:20180217
DESCRIPTION:River City BMX
LOCATION:251 Ne Agness  Grants Pass OR 97526 USA
SUMMARY:Standard Single Single
URL:/site/bmx_races/376719
END:VEVENT
END:VCALENDAR
