BEGIN:VCALENDAR
VERSION:2.0
PRODID:icalendar-ruby
CALSCALE:GREGORIAN
METHOD:PUBLISH
BEGIN:VEVENT
DTSTAMP:20260424T084410Z
UID:3c54b2a7-4b60-4675-a312-98dc31904de8
DTSTART;VALUE=DATE:20180818
DTEND;VALUE=DATE:20180818
DESCRIPTION:Horseheads BMX
LOCATION:190 Wygant Rd  Horseheads NY 14845 USA
SUMMARY:Race For Life Double Double
URL:/site/bmx_races/376701
END:VEVENT
END:VCALENDAR
