BEGIN:VCALENDAR
VERSION:2.0
PRODID:icalendar-ruby
CALSCALE:GREGORIAN
METHOD:PUBLISH
BEGIN:VEVENT
DTSTAMP:20260424T105807Z
UID:3940c7a8-7351-40b7-923b-a0d624f79527
DTSTART;VALUE=DATE:20130810
DTEND;VALUE=DATE:20130810
DESCRIPTION:Heartland BMX
LOCATION:4801 Sw Shunga Dr  Topeka KS 66614 USA
SUMMARY:Warnicke Double
URL:/site/bmx_races/37661
END:VEVENT
END:VCALENDAR
