BEGIN:VCALENDAR
VERSION:2.0
PRODID:icalendar-ruby
CALSCALE:GREGORIAN
METHOD:PUBLISH
BEGIN:VEVENT
DTSTAMP:20260424T215253Z
UID:a1986c0f-35b7-4093-bf7d-953a34ad53e8
DTSTART;VALUE=DATE:20190323
DTEND;VALUE=DATE:20190323
DESCRIPTION:Desoto BMX
LOCATION:Grimes Park 500 E. Centre Park Blvd Desoto TX 75115 USA
SUMMARY:Standard Single Single
URL:/site/bmx_races/376536
END:VEVENT
END:VCALENDAR
