BEGIN:VCALENDAR
VERSION:2.0
PRODID:icalendar-ruby
CALSCALE:GREGORIAN
METHOD:PUBLISH
BEGIN:VEVENT
DTSTAMP:20260425T021523Z
UID:2939edb8-205c-4526-883b-263e930611c8
DTSTART;VALUE=DATE:20180825
DTEND;VALUE=DATE:20180825
DESCRIPTION:Rum River BMX
LOCATION:Isanti Parkway Northwest  Isanti MN 55040 USA
SUMMARY:Pre Race Double Double
URL:/site/bmx_races/376294
END:VEVENT
END:VCALENDAR
