BEGIN:VCALENDAR
VERSION:2.0
PRODID:icalendar-ruby
CALSCALE:GREGORIAN
METHOD:PUBLISH
BEGIN:VEVENT
DTSTAMP:20260425T213547Z
UID:e67d66f1-9b42-4cab-b27f-449dda44a543
DTSTART;VALUE=DATE:20180801
DTEND;VALUE=DATE:20180801
DESCRIPTION:Eagle Park BMX
LOCATION:11800 N Horseshoe Bend Rd  Eagle ID 83616 USA
SUMMARY:Standard Single Single
URL:/site/bmx_races/376194
END:VEVENT
END:VCALENDAR
