BEGIN:VCALENDAR
VERSION:2.0
PRODID:icalendar-ruby
CALSCALE:GREGORIAN
METHOD:PUBLISH
BEGIN:VEVENT
DTSTAMP:20260424T172241Z
UID:d5653b13-1675-4caf-ac1f-9303eb73e8f8
DTSTART;VALUE=DATE:20180916
DTEND;VALUE=DATE:20180916
DESCRIPTION:Heartland BMX
LOCATION:4801 Sw Shunga Dr  Topeka KS 66614 USA
SUMMARY:Final Triple
URL:/site/bmx_races/376009
END:VEVENT
END:VCALENDAR
