BEGIN:VCALENDAR
VERSION:2.0
PRODID:icalendar-ruby
CALSCALE:GREGORIAN
METHOD:PUBLISH
BEGIN:VEVENT
DTSTAMP:20260424T215455Z
UID:fa1d58fb-6191-4a53-ae82-e39917e3d8f1
DTSTART;VALUE=DATE:20180224
DTEND;VALUE=DATE:20180224
DESCRIPTION:Whitney Mesa BMX
LOCATION:1575 Galleria Dr  Henderson NV 89014 USA
SUMMARY:Standard Double Double
URL:/site/bmx_races/375993
END:VEVENT
END:VCALENDAR
