BEGIN:VCALENDAR
VERSION:2.0
PRODID:icalendar-ruby
CALSCALE:GREGORIAN
METHOD:PUBLISH
BEGIN:VEVENT
DTSTAMP:20260424T131349Z
UID:70fbfef9-357f-4036-90aa-61e0f3d60d9b
DTSTART;VALUE=DATE:20180728
DTEND;VALUE=DATE:20180728
DESCRIPTION:Chula Vista BMX
LOCATION:2800 Olympic Parkway  Chula Vista CA 91915 USA
SUMMARY:Standard Single Single
URL:/site/bmx_races/375177
END:VEVENT
END:VCALENDAR
