BEGIN:VCALENDAR
VERSION:2.0
PRODID:icalendar-ruby
CALSCALE:GREGORIAN
METHOD:PUBLISH
BEGIN:VEVENT
DTSTAMP:20260424T220428Z
UID:9e7959b8-9f28-46b3-bc5f-82e31a09bbbe
DTSTART;VALUE=DATE:20180628
DTEND;VALUE=DATE:20180628
DESCRIPTION:Woodward Park BMX
LOCATION:7775 N Friant Rd  Fresno CA 93720 USA
SUMMARY:Olympic Single
URL:/site/bmx_races/374622
END:VEVENT
END:VCALENDAR
