BEGIN:VCALENDAR
VERSION:2.0
PRODID:icalendar-ruby
CALSCALE:GREGORIAN
METHOD:PUBLISH
BEGIN:VEVENT
DTSTAMP:20260424T160546Z
UID:44d413e4-dbfc-4287-b15d-25c9e3c23cb7
DTSTART;VALUE=DATE:20180121
DTEND;VALUE=DATE:20180121
DESCRIPTION:Sand Springs BMX
LOCATION:2600 S River City Park Rd  Sand Springs OK 74063 USA
SUMMARY:Standard Single Single
URL:/site/bmx_races/374619
END:VEVENT
END:VCALENDAR
