BEGIN:VCALENDAR
VERSION:2.0
PRODID:icalendar-ruby
CALSCALE:GREGORIAN
METHOD:PUBLISH
BEGIN:VEVENT
DTSTAMP:20260424T160546Z
UID:d44bec38-1d21-48bb-b8a8-19926b13f2c3
DTSTART;VALUE=DATE:20180309
DTEND;VALUE=DATE:20180309
DESCRIPTION:Boulder BMX\, Inc
LOCATION:1799 Commons Way  Boulder City NV 89005 USA
SUMMARY:Standard Single Single
URL:/site/bmx_races/374495
END:VEVENT
END:VCALENDAR
