BEGIN:VCALENDAR
VERSION:2.0
PRODID:icalendar-ruby
CALSCALE:GREGORIAN
METHOD:PUBLISH
BEGIN:VEVENT
DTSTAMP:20260426T040002Z
UID:8f61905f-a986-4f7e-8564-405ebb471184
DTSTART;VALUE=DATE:20180922
DTEND;VALUE=DATE:20180922
DESCRIPTION:MadTown BMX
LOCATION:6996 Hickory Lane  Deforest WI 53532 USA
SUMMARY:Standard Single Single
URL:/site/bmx_races/374440
END:VEVENT
END:VCALENDAR
