BEGIN:VCALENDAR
VERSION:2.0
PRODID:icalendar-ruby
CALSCALE:GREGORIAN
METHOD:PUBLISH
BEGIN:VEVENT
DTSTAMP:20260424T131322Z
UID:758152e8-780c-4411-8bcc-b46eacf7eeef
DTSTART;VALUE=DATE:20180705
DTEND;VALUE=DATE:20180705
DESCRIPTION:Kamloops BMX
LOCATION:200  1550 Ord Rd   Kamloops BC V2B1N3 CAN
SUMMARY:Olympic Single
URL:/site/bmx_races/374397
END:VEVENT
END:VCALENDAR
