BEGIN:VCALENDAR
VERSION:2.0
PRODID:icalendar-ruby
CALSCALE:GREGORIAN
METHOD:PUBLISH
BEGIN:VEVENT
DTSTAMP:20260425T035303Z
UID:25a061ff-7f1d-456d-8414-93dc2b72da9a
DTSTART;VALUE=DATE:20180317
DTEND;VALUE=DATE:20180317
DESCRIPTION:Emerald Valley BMX
LOCATION:2715 Leo Harris Pkwy  Eugene OR 97402 USA
SUMMARY:Standard Single Single
URL:/site/bmx_races/374390
END:VEVENT
END:VCALENDAR
