BEGIN:VCALENDAR
VERSION:2.0
PRODID:icalendar-ruby
CALSCALE:GREGORIAN
METHOD:PUBLISH
BEGIN:VEVENT
DTSTAMP:20260425T225847Z
UID:88d5fd6a-c5cb-4ad3-bab3-a1eae58e3024
DTSTART;VALUE=DATE:20130810
DTEND;VALUE=DATE:20130810
DESCRIPTION:Cherry Hill Park BMX
LOCATION:1727 N 15th St  Coeur D`Alene ID 83814 USA
SUMMARY:Race for Life Single
URL:/site/bmx_races/37402
END:VEVENT
END:VCALENDAR
