BEGIN:VCALENDAR
VERSION:2.0
PRODID:icalendar-ruby
CALSCALE:GREGORIAN
METHOD:PUBLISH
BEGIN:VEVENT
DTSTAMP:20260424T152337Z
UID:41c3c549-f490-454c-9edd-fc8bb95f13e5
DTSTART;VALUE=DATE:20180114
DTEND;VALUE=DATE:20180114
DESCRIPTION:Circle City BMX
LOCATION:Westgate Park    100 Recreation Rd Dothan AL 36305 USA
SUMMARY:Standard Single Single
URL:/site/bmx_races/373941
END:VEVENT
END:VCALENDAR
