BEGIN:VCALENDAR
VERSION:2.0
PRODID:icalendar-ruby
CALSCALE:GREGORIAN
METHOD:PUBLISH
BEGIN:VEVENT
DTSTAMP:20260424T154644Z
UID:39ec8cf8-9611-4b39-9c37-3df79d339947
DTSTART;VALUE=DATE:20130630
DTEND;VALUE=DATE:20130630
DESCRIPTION:Spokes BMX
LOCATION: 2550 W Bennett  Springfield MO 65807 USA
SUMMARY:State Race Double
URL:/site/bmx_races/37388
END:VEVENT
END:VCALENDAR
