BEGIN:VCALENDAR
VERSION:2.0
PRODID:icalendar-ruby
CALSCALE:GREGORIAN
METHOD:PUBLISH
BEGIN:VEVENT
DTSTAMP:20260426T023246Z
UID:d99bc5c5-a43d-46ca-b5a5-01d3b00be333
DTSTART;VALUE=DATE:20180608
DTEND;VALUE=DATE:20180608
DESCRIPTION:MadTown BMX
LOCATION:6996 Hickory Lane  Deforest WI 53532 USA
SUMMARY:Standard Single Single
URL:/site/bmx_races/373878
END:VEVENT
END:VCALENDAR
