BEGIN:VCALENDAR
VERSION:2.0
PRODID:icalendar-ruby
CALSCALE:GREGORIAN
METHOD:PUBLISH
BEGIN:VEVENT
DTSTAMP:20260424T163547Z
UID:01ca61a6-e190-4527-9d70-922919eb4533
DTSTART;VALUE=DATE:20180109
DTEND;VALUE=DATE:20180109
DESCRIPTION:Sarasota BMX
LOCATION:1590 North Tuttle Avenue  Sarasota FL 34237 USA
SUMMARY:Standard Single Single
URL:/site/bmx_races/373867
END:VEVENT
END:VCALENDAR
