BEGIN:VCALENDAR
VERSION:2.0
PRODID:icalendar-ruby
CALSCALE:GREGORIAN
METHOD:PUBLISH
BEGIN:VEVENT
DTSTAMP:20260424T143740Z
UID:a6d10483-f91c-4052-9a9e-f0ae96b17850
DTSTART;VALUE=DATE:20180120
DTEND;VALUE=DATE:20180120
DESCRIPTION:Triple Creek BMX
LOCATION:12705 Balm Boyette Rd  Riverview FL 33579 USA
SUMMARY:Standard Single Single
URL:/site/bmx_races/373865
END:VEVENT
END:VCALENDAR
