BEGIN:VCALENDAR
VERSION:2.0
PRODID:icalendar-ruby
CALSCALE:GREGORIAN
METHOD:PUBLISH
BEGIN:VEVENT
DTSTAMP:20260424T220234Z
UID:91026044-4880-4cd6-9ed1-e5148403d85d
DTSTART;VALUE=DATE:20131006
DTEND;VALUE=DATE:20131006
DESCRIPTION:Hampton BMX
LOCATION:901 E Littleback River Rd  Hampton VA 23669 USA
SUMMARY:State Final Triple
URL:/site/bmx_races/37312
END:VEVENT
END:VCALENDAR
