BEGIN:VCALENDAR
VERSION:2.0
PRODID:icalendar-ruby
CALSCALE:GREGORIAN
METHOD:PUBLISH
BEGIN:VEVENT
DTSTAMP:20260424T092006Z
UID:6b30fb6c-334d-43f4-8b40-8f708492252c
DTSTART;VALUE=DATE:20130223
DTEND;VALUE=DATE:20130223
DESCRIPTION:Yuma BMX
LOCATION:3067 S Pacific Ave  Yuma AZ 85364 USA
SUMMARY:State Race Double
URL:/site/bmx_races/37300
END:VEVENT
END:VCALENDAR
