BEGIN:VCALENDAR
VERSION:2.0
PRODID:icalendar-ruby
CALSCALE:GREGORIAN
METHOD:PUBLISH
BEGIN:VEVENT
DTSTAMP:20260425T021620Z
UID:51af352e-77d2-414b-8d52-4d0b3eb0d04e
DTSTART;VALUE=DATE:20181012
DTEND;VALUE=DATE:20181012
DESCRIPTION:Duke City BMX
LOCATION:1011 Buena Vista Dr Se  Albuquerque NM 87106 USA
SUMMARY:Standard Single Single
URL:/site/bmx_races/372812
END:VEVENT
END:VCALENDAR
