BEGIN:VCALENDAR
VERSION:2.0
PRODID:icalendar-ruby
CALSCALE:GREGORIAN
METHOD:PUBLISH
BEGIN:VEVENT
DTSTAMP:20260424T185950Z
UID:2d2ff0e2-b44c-4354-bbf8-f4f9d0b72852
DTSTART;VALUE=DATE:20130913
DTEND;VALUE=DATE:20130915
DESCRIPTION:Oak Creek BMX
LOCATION:648 Riverside Ave  Roseville CA 95678 USA
SUMMARY:NorCal State Final Weekend
URL:/site/bmx_races/37269
END:VEVENT
END:VCALENDAR
