BEGIN:VCALENDAR
VERSION:2.0
PRODID:icalendar-ruby
CALSCALE:GREGORIAN
METHOD:PUBLISH
BEGIN:VEVENT
DTSTAMP:20260424T172152Z
UID:0a629f54-6c14-4e00-babb-1d90e1b97ebc
DTSTART;VALUE=DATE:20181123
DTEND;VALUE=DATE:20181123
DESCRIPTION:Chandler BMX
LOCATION:298 S Mc Queen Rd  Chandler AZ 85225 USA
SUMMARY:Standard Single Single
URL:/site/bmx_races/372229
END:VEVENT
END:VCALENDAR
