BEGIN:VCALENDAR
VERSION:2.0
PRODID:icalendar-ruby
CALSCALE:GREGORIAN
METHOD:PUBLISH
BEGIN:VEVENT
DTSTAMP:20260424T215258Z
UID:64b1f5b1-b38d-4bfa-ae4b-a1bbc7d1a646
DTSTART;VALUE=DATE:20180302
DTEND;VALUE=DATE:20180302
DESCRIPTION:Chandler BMX
LOCATION:298 S Mc Queen Rd  Chandler AZ 85225 USA
SUMMARY:Standard Single Single
URL:/site/bmx_races/372191
END:VEVENT
END:VCALENDAR
