BEGIN:VCALENDAR
VERSION:2.0
PRODID:icalendar-ruby
CALSCALE:GREGORIAN
METHOD:PUBLISH
BEGIN:VEVENT
DTSTAMP:20260424T093646Z
UID:4827ecdc-ccc2-4b8b-9103-0f42ed057bd5
DTSTART;VALUE=DATE:20130605
DTEND;VALUE=DATE:20130605
DESCRIPTION:Johnstown BMX
LOCATION:260 Playground Drive  Johnstown PA 15904 USA
SUMMARY:Race for Life Single
URL:/site/bmx_races/37184
END:VEVENT
END:VCALENDAR
