BEGIN:VCALENDAR
VERSION:2.0
PRODID:icalendar-ruby
CALSCALE:GREGORIAN
METHOD:PUBLISH
BEGIN:VEVENT
DTSTAMP:20260424T125342Z
UID:03cb9fb9-cbec-4670-9ef0-87149998a0d5
DTSTART;VALUE=DATE:20130629
DTEND;VALUE=DATE:20130629
DESCRIPTION:Johnstown BMX
LOCATION:260 Playground Drive  Johnstown PA 15904 USA
SUMMARY:State Race Double
URL:/site/bmx_races/37183
END:VEVENT
END:VCALENDAR
