BEGIN:VCALENDAR
VERSION:2.0
PRODID:icalendar-ruby
CALSCALE:GREGORIAN
METHOD:PUBLISH
BEGIN:VEVENT
DTSTAMP:20260424T123405Z
UID:0cd09481-aafb-436b-944a-a9f734852954
DTSTART;VALUE=DATE:20180613
DTEND;VALUE=DATE:20180613
DESCRIPTION:Kingston Point BMX
LOCATION:4 Delaware Ave  Kingston NY 12401 USA
SUMMARY:Standard Single Single
URL:/site/bmx_races/371760
END:VEVENT
END:VCALENDAR
