BEGIN:VCALENDAR
VERSION:2.0
PRODID:icalendar-ruby
CALSCALE:GREGORIAN
METHOD:PUBLISH
BEGIN:VEVENT
DTSTAMP:20260424T113725Z
UID:25692305-ceb8-49c4-bb11-009636b2535a
DTSTART;VALUE=DATE:20180617
DTEND;VALUE=DATE:20180617
DESCRIPTION:County Line BMX
LOCATION:8560 South Colorado Blvd  Centennial CO 80126 USA
SUMMARY:Standard Single Single
URL:/site/bmx_races/371560
END:VEVENT
END:VCALENDAR
