BEGIN:VCALENDAR
VERSION:2.0
PRODID:icalendar-ruby
CALSCALE:GREGORIAN
METHOD:PUBLISH
BEGIN:VEVENT
DTSTAMP:20260424T220413Z
UID:4f5e7f8e-ecf8-44a8-a065-c724a7a1c172
DTSTART;VALUE=DATE:20180615
DTEND;VALUE=DATE:20180615
DESCRIPTION:Milton BMX - Track 2000 
LOCATION:Drumquin Park   Britania Road Milton ON L9T 7G6 CAN
SUMMARY:Race For Life Single
URL:/site/bmx_races/370922
END:VEVENT
END:VCALENDAR
