BEGIN:VCALENDAR
VERSION:2.0
PRODID:icalendar-ruby
CALSCALE:GREGORIAN
METHOD:PUBLISH
BEGIN:VEVENT
DTSTAMP:20260425T103405Z
UID:642c19e5-e4d5-4ce8-b37a-1aba8aaee08d
DTSTART;VALUE=DATE:20180812
DTEND;VALUE=DATE:20180812
DESCRIPTION:Eagle County BMX
LOCATION:1700 Bull Pasture Rd  Eagle CO 81631 USA
SUMMARY:Standard Double Double
URL:/site/bmx_races/370911
END:VEVENT
END:VCALENDAR
