BEGIN:VCALENDAR
VERSION:2.0
PRODID:icalendar-ruby
CALSCALE:GREGORIAN
METHOD:PUBLISH
BEGIN:VEVENT
DTSTAMP:20260425T033144Z
UID:cc3c3cd9-f9ac-42f8-a157-bed63909ec14
DTSTART;VALUE=DATE:20180728
DTEND;VALUE=DATE:20180728
DESCRIPTION:Dacono BMX
LOCATION:113 Forest Ave  Dacono CO 80514 USA
SUMMARY:Race For Life Double Double
URL:/site/bmx_races/370902
END:VEVENT
END:VCALENDAR
