BEGIN:VCALENDAR
VERSION:2.0
PRODID:icalendar-ruby
CALSCALE:GREGORIAN
METHOD:PUBLISH
BEGIN:VEVENT
DTSTAMP:20260425T113651Z
UID:69996db1-8faf-4418-9c9b-6c445b6106e9
DTSTART;VALUE=DATE:20180629
DTEND;VALUE=DATE:20180629
DESCRIPTION:Redwood Empire BMX
LOCATION:201 Vance Ave  Samoa CA 95564 USA
SUMMARY:Standard Single Single
URL:/site/bmx_races/370614
END:VEVENT
END:VCALENDAR
